BEGIN:VCALENDAR
VERSION:2.0
PRODID:-//The Würzburg Platelet Group - ECPv6.2.9//NONSGML v1.0//EN
CALSCALE:GREGORIAN
METHOD:PUBLISH
X-WR-CALNAME:The Würzburg Platelet Group
X-ORIGINAL-URL:https://www.platelets.eu
X-WR-CALDESC:Events for The Würzburg Platelet Group
REFRESH-INTERVAL;VALUE=DURATION:PT1H
X-Robots-Tag:noindex
X-PUBLISHED-TTL:PT1H
BEGIN:VTIMEZONE
TZID:Europe/Berlin
BEGIN:DAYLIGHT
TZOFFSETFROM:+0100
TZOFFSETTO:+0200
TZNAME:CEST
DTSTART:20190331T010000
END:DAYLIGHT
BEGIN:STANDARD
TZOFFSETFROM:+0200
TZOFFSETTO:+0100
TZNAME:CET
DTSTART:20191027T010000
END:STANDARD
BEGIN:DAYLIGHT
TZOFFSETFROM:+0100
TZOFFSETTO:+0200
TZNAME:CEST
DTSTART:20200329T010000
END:DAYLIGHT
BEGIN:STANDARD
TZOFFSETFROM:+0200
TZOFFSETTO:+0100
TZNAME:CET
DTSTART:20201025T010000
END:STANDARD
END:VTIMEZONE
BEGIN:VEVENT
DTSTART;TZID=Europe/Berlin:20200324T170000
DTEND;TZID=Europe/Berlin:20200324T170000
DTSTAMP:20260419T192647
CREATED:20200210T122826Z
LAST-MODIFIED:20200212T171434Z
UID:3072-1585069200-1585069200@www.platelets.eu
SUMMARY:TR240 video seminar
DESCRIPTION:Dear members of the TR240\, \nYou are cordially invited to the TR240 video seminar: \nSpeaker:\nProfessor Yotis A. Senis\nUniversité de Strasbourg\, France \nTopic:\n“Tyrosine phosphatases and ITIM receptors: keeping platelets in check” \nDate:\nTuesday\, March 24\, 2020 – 5 pm \nLocation:\nRudolf-Virchow-Zentrum Würzburg\, Josef-Schneider-Str. 2\, D15\, 01.002-004 \nBroadcast to TÜ:\nMain Lecture Hall\, Med. Klinik\, Tübingen \nInternet livestream\nto other sites:\nimplementation in progress \n  \n \nDownload PDF
URL:https://www.platelets.eu/event/tr240-video-seminar/
ATTACH;FMTTYPE=image/png:https://www.platelets.eu/wp-content/uploads/2020/02/2020-02-10-13_25_33-.png
END:VEVENT
BEGIN:VEVENT
DTSTART;TZID=Europe/Berlin:20200317T170000
DTEND;TZID=Europe/Berlin:20200317T192000
DTSTAMP:20260419T192647
CREATED:20200303T113952Z
LAST-MODIFIED:20200314T104527Z
UID:3122-1584464400-1584472800@www.platelets.eu
SUMMARY:>> CANCELLATION
DESCRIPTION:Dear members of the TR240\, \n\nDue to latest covid-19 developments we decided to cancel the progress symposium on March 17\, 2020 \n\nWe will inform you about the new date asap.
URL:https://www.platelets.eu/event/tr240-progress-symposium/
ATTACH;FMTTYPE=image/png:https://www.platelets.eu/wp-content/uploads/2020/03/2020-03-03-12_37_53-Microsoft-Word-TR240-ProgressSymp_2020-03-17_final.docx.png
END:VEVENT
BEGIN:VEVENT
DTSTART;TZID=Europe/Berlin:20191210T170000
DTEND;TZID=Europe/Berlin:20191210T200000
DTSTAMP:20260419T192647
CREATED:20191205T143007Z
LAST-MODIFIED:20191205T143007Z
UID:3030-1575997200-1576008000@www.platelets.eu
SUMMARY:Studying platelet clearance using intravital microscopy - Dr. Carsten Deppermann
DESCRIPTION:Dear all! \nWe are pleased to invite you to a talk given by\nDr. Carsten Deppermann \nKlinische Chemie\, UKE\, Hamburg \nTuesday\, December 10\, 2019 – 5 pm\n(RVZ – Lecture Room D15.00.048) \nTopic:\n“Studying platelet clearance using intravital microscopy” \n \nDownload
URL:https://www.platelets.eu/event/studying-platelet-clearance-using-intravital-microscopy-dr-carsten-deppermann/
ATTACH;FMTTYPE=image/png:https://www.platelets.eu/wp-content/uploads/2019/12/2019-12-05-15_25_11-Microsoft-Word-2019-12-10-Talk-Carsten-Deppermann.png
END:VEVENT
BEGIN:VEVENT
DTSTART;TZID=Europe/Berlin:20191107T100000
DTEND;TZID=Europe/Berlin:20191107T170000
DTSTAMP:20260419T192647
CREATED:20191103T151625Z
LAST-MODIFIED:20191106T092704Z
UID:3013-1573120800-1573146000@www.platelets.eu
SUMMARY:Cause and effect of platelet contractility - Dr. Ingmar Schön
DESCRIPTION:Dear all! \nWe are pleased to invite you to a talk given by\nIngmar Schön \nRoyal College of Surgeons in Ireland\, Dublin \nThursday\, November 7\, 2019\n(RVZ – Lecture Room D15.01.002/004) \nTopic:\n“Cause and effect of platelet contractility” \nDownload PDF
URL:https://www.platelets.eu/event/cause-and-effect-of-platelet-contractility-dr-ingmar-schon/
ATTACH;FMTTYPE=image/png:https://www.platelets.eu/wp-content/uploads/2019/11/2019-11-03-16_12_51-Microsoft-Word-2019-11-07-Talk-Ingmar-Schön.png
END:VEVENT
BEGIN:VEVENT
DTSTART;TZID=Europe/Berlin:20191024T073000
DTEND;TZID=Europe/Berlin:20191026T150000
DTSTAMP:20260419T192647
CREATED:20190730T150651Z
LAST-MODIFIED:20191105T110321Z
UID:2924-1571902200-1572102000@www.platelets.eu
SUMMARY:3rd Symposium Platelets
DESCRIPTION:Dear Members of the TR240! \nWe are happy to invite you to the 3rd Symposium „Platelets“\nwhich will be held on 24th-26th October at the University of Tübingen. \nPlease see enclosed program for further details and use this link for registration.\nShould you have any questions regarding the symposium\, please contact: \n  \nDr. Tatsiana Castor\nResearch Associate\, Internal Medicine III\nCardiology and Cardiovascular Diseases\nUniversity Tuebingen \nTatsiana.Castor@med.uni-tuebingen.de \n  \n \nPDF Download
URL:https://www.platelets.eu/event/3rd-symposium-platelets/
LOCATION:University Tübingen Conference Center\, Otfried-Müller-Str. 6\, Tübingen\, 72076\, Germany
ATTACH;FMTTYPE=image/png:https://www.platelets.eu/wp-content/uploads/2019/07/Programm_3rd_Platelets_Symposium_Oct_24-26_2019.png
END:VEVENT
BEGIN:VEVENT
DTSTART;TZID=Europe/Berlin:20191015T170000
DTEND;TZID=Europe/Berlin:20191015T170000
DTSTAMP:20260419T192647
CREATED:20191009T153710Z
LAST-MODIFIED:20191009T154403Z
UID:2982-1571158800-1571158800@www.platelets.eu
SUMMARY:Steve Thomas\, PhD “New insights into Formin function in platelets and megakaryocytes”
DESCRIPTION:2019-10-15 Talk Steve Thomas Birmingham \n \n 
URL:https://www.platelets.eu/event/steve-thomas-phd-new-insights-into-formin-function-in-platelets-and-megakaryocytes/
ATTACH;FMTTYPE=image/png:https://www.platelets.eu/wp-content/uploads/2019/10/steve-thomas.png
END:VEVENT
END:VCALENDAR